BEGIN:VCALENDAR
VERSION:2.0
PRODID:-//Learning Disabilities Association of PEI - ECPv6.15.18//NONSGML v1.0//EN
CALSCALE:GREGORIAN
METHOD:PUBLISH
X-WR-CALNAME:Learning Disabilities Association of PEI
X-ORIGINAL-URL:https://ldapei.ca
X-WR-CALDESC:Events for Learning Disabilities Association of PEI
REFRESH-INTERVAL;VALUE=DURATION:PT1H
X-Robots-Tag:noindex
X-PUBLISHED-TTL:PT1H
BEGIN:VTIMEZONE
TZID:America/Halifax
BEGIN:DAYLIGHT
TZOFFSETFROM:-0400
TZOFFSETTO:-0300
TZNAME:ADT
DTSTART:20260308T060000
END:DAYLIGHT
BEGIN:STANDARD
TZOFFSETFROM:-0300
TZOFFSETTO:-0400
TZNAME:AST
DTSTART:20261101T050000
END:STANDARD
BEGIN:DAYLIGHT
TZOFFSETFROM:-0400
TZOFFSETTO:-0300
TZNAME:ADT
DTSTART:20270314T060000
END:DAYLIGHT
BEGIN:STANDARD
TZOFFSETFROM:-0300
TZOFFSETTO:-0400
TZNAME:AST
DTSTART:20271107T050000
END:STANDARD
BEGIN:DAYLIGHT
TZOFFSETFROM:-0400
TZOFFSETTO:-0300
TZNAME:ADT
DTSTART:20280312T060000
END:DAYLIGHT
BEGIN:STANDARD
TZOFFSETFROM:-0300
TZOFFSETTO:-0400
TZNAME:AST
DTSTART:20281105T050000
END:STANDARD
END:VTIMEZONE
BEGIN:VEVENT
DTSTART;TZID=America/Halifax:20270610T183000
DTEND;TZID=America/Halifax:20270610T200000
DTSTAMP:20260422T143643
CREATED:20260402T123313Z
LAST-MODIFIED:20260402T144216Z
UID:1916-1812652200-1812657600@ldapei.ca
SUMMARY:Enhance & Empower: Practical Strategies to Improve Self-Monitoring
DESCRIPTION:Come join us for an engaging event where you will learn practical strategies to enhance and empower yourself through improved self-monitoring. This in-person event will take place at K.C Irving Chemistry Building Room 104 – Wanda Wyatt Lecture Theatre. Get ready to boost your self-awareness and take control of your personal growth. Don’t miss out on this opportunity to develop valuable skills and strategies to help you succeed in various aspects of your life. See you there! \nDoors open at 6.
URL:https://ldapei.ca/event/enhance-empower-practical-strategies-to-improve-self-monitoring/
LOCATION:K.C Irving Chemistry Building Room 104 – Wanda Wyatt Lecture Theatre.\, 550 University Ave\, Charlottetown\, PE
CATEGORIES:Empower & Enhance
END:VEVENT
END:VCALENDAR