BEGIN:VCALENDAR
VERSION:2.0
PRODID:-//Learning Disabilities Association of PEI - ECPv6.15.18//NONSGML v1.0//EN
CALSCALE:GREGORIAN
METHOD:PUBLISH
X-ORIGINAL-URL:https://ldapei.ca
X-WR-CALDESC:Events for Learning Disabilities Association of PEI
REFRESH-INTERVAL;VALUE=DURATION:PT1H
X-Robots-Tag:noindex
X-PUBLISHED-TTL:PT1H
BEGIN:VTIMEZONE
TZID:America/Halifax
BEGIN:DAYLIGHT
TZOFFSETFROM:-0400
TZOFFSETTO:-0300
TZNAME:ADT
DTSTART:20260308T060000
END:DAYLIGHT
BEGIN:STANDARD
TZOFFSETFROM:-0300
TZOFFSETTO:-0400
TZNAME:AST
DTSTART:20261101T050000
END:STANDARD
BEGIN:DAYLIGHT
TZOFFSETFROM:-0400
TZOFFSETTO:-0300
TZNAME:ADT
DTSTART:20270314T060000
END:DAYLIGHT
BEGIN:STANDARD
TZOFFSETFROM:-0300
TZOFFSETTO:-0400
TZNAME:AST
DTSTART:20271107T050000
END:STANDARD
BEGIN:DAYLIGHT
TZOFFSETFROM:-0400
TZOFFSETTO:-0300
TZNAME:ADT
DTSTART:20280312T060000
END:DAYLIGHT
BEGIN:STANDARD
TZOFFSETFROM:-0300
TZOFFSETTO:-0400
TZNAME:AST
DTSTART:20281105T050000
END:STANDARD
END:VTIMEZONE
BEGIN:VEVENT
DTSTART;TZID=America/Halifax:20270318T183000
DTEND;TZID=America/Halifax:20270318T200000
DTSTAMP:20260422T103639
CREATED:20260402T122906Z
LAST-MODIFIED:20260402T143550Z
UID:1910-1805394600-1805400000@ldapei.ca
SUMMARY:Empower & Enhance: Practical Strategies to Improve Emotional Control
DESCRIPTION:Come join us at K.C Irving Chemistry Building Room 104 – Wanda Wyatt Lecture Theatre for an interactive event focused on boosting your emotional control skills! Learn practical strategies to handle stress\, anxiety\, and other challenging emotions in a supportive environment. Whether you’re a student\, professional\, or just someone looking to enhance your emotional well-being\, this event is for you. Don’t miss out on this opportunity to empower yourself and take control of your emotions! \nDoors open at 6. \n\n  Register Here
URL:https://ldapei.ca/event/empower-enhance-practical-strategies-to-improve-emotional-control/
LOCATION:K.C Irving Chemistry Building Room 104 – Wanda Wyatt Lecture Theatre.\, 550 University Ave\, Charlottetown\, PE
CATEGORIES:Empower & Enhance
END:VEVENT
END:VCALENDAR