BEGIN:VCALENDAR
VERSION:2.0
PRODID:-//Learning Disabilities Association of PEI - ECPv6.15.18//NONSGML v1.0//EN
CALSCALE:GREGORIAN
METHOD:PUBLISH
X-ORIGINAL-URL:https://ldapei.ca
X-WR-CALDESC:Events for Learning Disabilities Association of PEI
REFRESH-INTERVAL;VALUE=DURATION:PT1H
X-Robots-Tag:noindex
X-PUBLISHED-TTL:PT1H
BEGIN:VTIMEZONE
TZID:America/Halifax
BEGIN:DAYLIGHT
TZOFFSETFROM:-0400
TZOFFSETTO:-0300
TZNAME:ADT
DTSTART:20260308T060000
END:DAYLIGHT
BEGIN:STANDARD
TZOFFSETFROM:-0300
TZOFFSETTO:-0400
TZNAME:AST
DTSTART:20261101T050000
END:STANDARD
BEGIN:DAYLIGHT
TZOFFSETFROM:-0400
TZOFFSETTO:-0300
TZNAME:ADT
DTSTART:20270314T060000
END:DAYLIGHT
BEGIN:STANDARD
TZOFFSETFROM:-0300
TZOFFSETTO:-0400
TZNAME:AST
DTSTART:20271107T050000
END:STANDARD
BEGIN:DAYLIGHT
TZOFFSETFROM:-0400
TZOFFSETTO:-0300
TZNAME:ADT
DTSTART:20280312T060000
END:DAYLIGHT
BEGIN:STANDARD
TZOFFSETFROM:-0300
TZOFFSETTO:-0400
TZNAME:AST
DTSTART:20281105T050000
END:STANDARD
END:VTIMEZONE
BEGIN:VEVENT
DTSTART;TZID=America/Halifax:20270415T183000
DTEND;TZID=America/Halifax:20270415T200000
DTSTAMP:20260422T135612
CREATED:20260402T123016Z
LAST-MODIFIED:20260402T143726Z
UID:1912-1807813800-1807819200@ldapei.ca
SUMMARY:Empower & Enhance: Practical Strategies to Improve Impulse Control
DESCRIPTION:Come join us for an engaging event focused on boosting your impulse control skills! Whether you struggle with making impulsive decisions or simply want to enhance your self-discipline\, this event is perfect for you. Learn practical strategies and techniques that you can start implementing right away. The event will take place at K.C Irving Chemistry Building Room 104 – Wanda Wyatt Lecture Theatre. Don’t miss out on this opportunity to empower yourself and take control of your impulses! \nDoors open at 6. \n\n  Register Here
URL:https://ldapei.ca/event/empower-enhance-practical-strategies-to-improve-impulse-control/
LOCATION:K.C Irving Chemistry Building Room 104 – Wanda Wyatt Lecture Theatre.\, 550 University Ave\, Charlottetown\, PE
CATEGORIES:Empower & Enhance
END:VEVENT
END:VCALENDAR